BEGIN:VCALENDAR
VERSION:2.0
PRODID:-//Squarespace Inc/Squarespace 6//v6//EN
BEGIN:VEVENT
UID:59ca4f83b1ffb695ed245134@squarespace.com
DTSTAMP:20170926T130311Z
DTSTART:20171117T060000Z
DTEND:20171117T100000Z
SUMMARY:Top of the Hill Twilight Market
GEO:-38.369916;145.012177
LOCATION:Red Hill Recreation Reserve\, 184 Arthurs Seat Road\, Red Hill\, V
 IC\, 3937\, Australia
END:VEVENT
END:VCALENDAR
