BEGIN:VCALENDAR
VERSION:2.0
PRODID:-//Squarespace Inc/Squarespace 6//v6//EN
BEGIN:VEVENT
UID:59ca5019017db2da07eb6d15@squarespace.com
DTSTAMP:20170926T130551Z
DTSTART:20171117T223000Z
DTEND:20171118T040000Z
SUMMARY:Seddon Makers Market
GEO:-37.808932;144.890002
LOCATION:Seddon Makers Market\, Gamon Street\, Seddon\, VIC\, 3011\, Austra
 lia
END:VEVENT
END:VCALENDAR
