BEGIN:VCALENDAR
VERSION:2.0
PRODID:-//Squarespace Inc/Squarespace 6//v6//EN
BEGIN:VEVENT
UID:59ca5106a803bb6211754d9c@squarespace.com
DTSTAMP:20170926T130913Z
DTSTART:20171118T210000Z
DTEND:20171119T020000Z
SUMMARY:Seaford Farmers Market
GEO:-38.103461;145.126917
LOCATION:Seaford Farmers Market\, Station Street\, Seaford\, VIC\, 3198\, A
 ustralia
END:VEVENT
END:VCALENDAR
