BEGIN:VCALENDAR
VERSION:2.0
PRODID:-//Squarespace Inc/Squarespace 6//v6//EN
BEGIN:VEVENT
UID:59ca4c76cd0f68d43930c4f9@squarespace.com
DTSTAMP:20170926T124920Z
DTSTART:20171102T060000Z
DTEND:20171102T100000Z
SUMMARY:Eastland Moonlit Market
GEO:-37.812753;145.228816
LOCATION:Eastland Shopping Centre\, 175 Maroondah Highway\, Ringwood\, VIC\
 , 3134\, Australia
END:VEVENT
END:VCALENDAR
