BEGIN:VCALENDAR
VERSION:2.0
PRODID:-//Squarespace Inc/Squarespace 6//v6//EN
BEGIN:VEVENT
UID:59ca518f80bd5e1a6eafb57e@squarespace.com
DTSTAMP:20170926T131037Z
DTSTART:20171123T060000Z
DTEND:20171123T100000Z
SUMMARY:Eastland Moonlit Market
GEO:-37.812753;145.228816
LOCATION:Eastland\, 175 Maroondah Highway\, Ringwood\, VIC\, 3134\, Austral
 ia
END:VEVENT
END:VCALENDAR
