BEGIN:VCALENDAR
VERSION:2.0
PRODID:-//Squarespace Inc/Squarespace 6//v6//EN
BEGIN:VEVENT
UID:5a18c54ac83025aa862870f7@squarespace.com
DTSTAMP:20171125T012432Z
DTSTART:20171125T050000Z
DTEND:20171125T100000Z
SUMMARY:Eltham Twilight Christmas Market
GEO:-37.713893;145.149283
LOCATION:Etham Town Square\, Etham Town Square\, Eltham
END:VEVENT
END:VCALENDAR
