BEGIN:VCALENDAR
VERSION:2.0
PRODID:-//Squarespace Inc/Squarespace 6//v6//EN
BEGIN:VEVENT
UID:5a18bbb9085229dccc701d64@squarespace.com
DTSTAMP:20171125T005136Z
DTSTART:20171125T230000Z
DTEND:20171126T040000Z
SUMMARY:Merlynston Market
GEO:-37.720031;144.960327
LOCATION:Bain Reserve\, 2 Merlyn Street\, Coburg North\, VIC\, 3058\, Austr
 alia
END:VEVENT
END:VCALENDAR
