BEGIN:VCALENDAR
VERSION:2.0
PRODID:-//Squarespace Inc/Squarespace 6//v6//EN
BEGIN:VEVENT
UID:5a18bdf18165f542d666c94b@squarespace.com
DTSTAMP:20171125T005122Z
DTSTART:20171126T010000Z
DTEND:20171126T070000Z
SUMMARY:Spring Feast
GEO:-37.80648;145.245542
LOCATION:Karralyka Centre\, Mines Road\, Ringwood\, VIC\, 3134\, Australia
END:VEVENT
END:VCALENDAR
