BEGIN:VCALENDAR
VERSION:2.0
PRODID:-//Squarespace Inc/Squarespace 6//v6//EN
BEGIN:VEVENT
UID:59ca4d00cd39c3877fff214e@squarespace.com
DTSTAMP:20170926T125312Z
DTSTART:20171103T050000Z
DTEND:20171103T090000Z
SUMMARY:Wallan Twilight Market
GEO:-37.414259;144.980237
LOCATION:Wallan Twilight\, 66-80 High Street\, Wallan\, VIC\, 3756\, Austra
 lia
END:VEVENT
END:VCALENDAR
