BEGIN:VCALENDAR
VERSION:2.0
PRODID:-//Squarespace Inc/Squarespace 6//v6//EN
BEGIN:VEVENT
UID:5a18bf28c83025aa8627a021@squarespace.com
DTSTAMP:20171125T010238Z
DTSTART:20171130T063000Z
DTEND:20171130T103000Z
SUMMARY:Northcote High Street Pop Up
GEO:-37.773873;144.998029
LOCATION:High Street\, Northcote\, VIC\, 3070\, Australia
END:VEVENT
END:VCALENDAR
