BEGIN:VCALENDAR
VERSION:2.0
PRODID:-//Squarespace Inc/Squarespace 6//v6//EN
BEGIN:VEVENT
UID:5a18bea80d92971bbcb0d14b@squarespace.com
DTSTAMP:20171125T005343Z
DTSTART:20171130T060000Z
DTEND:20171130T100000Z
SUMMARY:Eastland Moonlit Market
GEO:-37.812694;145.229201
LOCATION:Eastland\, 171-175 Maroondah Highway\, Ringwood\, VIC\, 3134\, Aus
 tralia
END:VEVENT
END:VCALENDAR
