BEGIN:VCALENDAR
VERSION:2.0
PRODID:-//Squarespace Inc/Squarespace 6//v6//EN
BEGIN:VEVENT
UID:59ca4dc8e9bfdfdd720a0854@squarespace.com
DTSTAMP:20170926T125427Z
DTSTART:20171104T230000Z
DTEND:20171105T050000Z
SUMMARY:Melbourne Art Centre
GEO:-37.820089;144.968129
LOCATION:Melbourne Art Centre\, 100 Saint Kilda Road\, Southbank\, VIC\, 30
 06\, Australia
END:VEVENT
END:VCALENDAR
