BEGIN:VCALENDAR
VERSION:2.0
PRODID:-//Squarespace Inc/Squarespace 6//v6//EN
BEGIN:VEVENT
UID:5a18c13a8165f542d6673a5a@squarespace.com
DTSTAMP:20171125T010625Z
DTSTART:20171201T050000Z
DTEND:20171201T090000Z
SUMMARY:Flemington Twilight
GEO:-37.788958;144.90625
LOCATION:Flemington Racecourse\, 448 Epsom Road\, Flemington\, VIC\, 3031\, 
 Australia
END:VEVENT
END:VCALENDAR
