BEGIN:VCALENDAR
VERSION:2.0
PRODID:-//Squarespace Inc/Squarespace 6//v6//EN
BEGIN:VEVENT
UID:5a18c4688165f542d667a4a4@squarespace.com
DTSTAMP:20171125T011756Z
DTSTART:20171209T220000Z
DTEND:20171210T030000Z
SUMMARY:Belgrave Big Dreams Market
GEO:-37.908638;145.352933
LOCATION:St Thomas More Primary School\, Reynolds Lane\, Belgrave\, VIC\, 3
 160\, Australia
END:VEVENT
END:VCALENDAR
