BEGIN:VCALENDAR
VERSION:2.0
PRODID:-//Squarespace Inc/Squarespace 6//v6//EN
BEGIN:VEVENT
UID:5a18c675c83025aa862896d3@squarespace.com
DTSTAMP:20171125T012623Z
DTSTART:20171215T050000Z
DTEND:20171215T100000Z
SUMMARY:Naughty and Nice food Festival
GEO:-37.756434;145.312547
LOCATION:Chirnside Park Shopping Centre\, 239-241 Maroondah Highway\, Chirn
 side Park\, VIC\, 3116\, Australia
END:VEVENT
END:VCALENDAR
