BEGIN:VCALENDAR
VERSION:2.0
PRODID:-//Squarespace Inc/Squarespace 6//v6//EN
BEGIN:VEVENT
UID:5a18c6c924a694106d53f7d0@squarespace.com
DTSTAMP:20171125T013105Z
DTSTART:20171215T213000Z
DTEND:20171216T020000Z
SUMMARY:Dingley Village Farmers Market
GEO:-37.981658;145.134256
LOCATION:Dingley Village\, 31 Marcus Road\, Dingley Village\, VIC\, 3172\, 
 Australia
END:VEVENT
END:VCALENDAR
