BEGIN:VCALENDAR
VERSION:2.0
PRODID:-//Squarespace Inc/Squarespace 6//v6//EN
BEGIN:VEVENT
UID:5a18c822085229dccc71be97@squarespace.com
DTSTAMP:20171125T013313Z
DTSTART:20171216T230000Z
DTEND:20171217T050000Z
SUMMARY:Melbourne Art Centre Market
GEO:-37.820089;144.968129
LOCATION:Melbourne National Art Centre\, 100 Saint Kilda Road\, Southbank\, 
 VIC\, 3006\, Australia
END:VEVENT
END:VCALENDAR
