BEGIN:VCALENDAR
VERSION:2.0
PRODID:-//Squarespace Inc/Squarespace 6//v6//EN
BEGIN:VEVENT
UID:5a18c21e4192021369d4677c@squarespace.com
DTSTAMP:20171125T010843Z
DTSTART:20171201T230000Z
DTEND:20171202T060000Z
SUMMARY:Jam Factory Pop Up
GEO:-37.84264;144.995803
LOCATION:Jam Factory\, 500 Chapel Street\, South Yarra\, VIC\, 3141\, Austr
 alia
END:VEVENT
END:VCALENDAR
