BEGIN:VCALENDAR
VERSION:2.0
PRODID:-//Squarespace Inc/Squarespace 6//v6//EN
BEGIN:VEVENT
UID:5a18c86ae2c483f5adb47194@squarespace.com
DTSTAMP:20171125T013422Z
DTSTART:20171221T060000Z
DTEND:20171221T100000Z
SUMMARY:Eastland Moonlit Market
GEO:-37.812694;145.229201
LOCATION:Eastland\, 171-175 Maroondah Highway\, Ringwood\, VIC\, 3134\, Aus
 tralia
END:VEVENT
END:VCALENDAR
