BEGIN:VCALENDAR
VERSION:2.0
PRODID:-//Squarespace Inc/Squarespace 6//v6//EN
BEGIN:VEVENT
UID:5a18c2aac83025aa862817ef@squarespace.com
DTSTAMP:20171125T011033Z
DTSTART:20171202T230000Z
DTEND:20171203T050000Z
SUMMARY:Melbourne Art Centre Market
GEO:-37.820089;144.968129
LOCATION:Melbourne National Art Centre\, 100 Saint Kilda Road\, Southbank\, 
 VIC\, 3006\, Australia
END:VEVENT
END:VCALENDAR
