BEGIN:VCALENDAR
VERSION:2.0
PRODID:-//Squarespace Inc/Squarespace 6//v6//EN
BEGIN:VEVENT
UID:5a18c40b0d92971bbcb185fd@squarespace.com
DTSTAMP:20171125T011616Z
DTSTART:20171208T230000Z
DTEND:20171209T040000Z
SUMMARY:Heide Makers Market
GEO:-37.760068;145.084148
LOCATION:Heide Museum of Modern Art\, 7 Templestowe Road\, Bulleen\, VIC\, 
 3105\, Australia
END:VEVENT
END:VCALENDAR
