BEGIN:VCALENDAR
VERSION:2.0
PRODID:-//Squarespace Inc/Squarespace 6//v6//EN
BEGIN:VEVENT
UID:58ad7310d482e96e16ff7edb@squarespace.com
DTSTAMP:20170222T111953Z
DTSTART:20170224T050000Z
DTEND:20170224T110000Z
SUMMARY:Nightjar Geelong
GEO:-38.148869;144.357183
LOCATION:Johnstone Park\, Gheringhap Street\, Geelong\, VIC\, 3220\, Austra
 lia
END:VEVENT
END:VCALENDAR
