BEGIN:VCALENDAR
VERSION:2.0
PRODID:-//Squarespace Inc/Squarespace 6//v6//EN
BEGIN:VEVENT
UID:58ad75929f74561993e5ada9@squarespace.com
DTSTAMP:20170222T113031Z
DTSTART:20170311T220000Z
DTEND:20170312T030000Z
SUMMARY:Belgrave Big Dreams
GEO:-37.908638;145.352933
LOCATION:St Thomas More Primary School\, Reynolds Lane\, Belgrave\, VIC\, 3
 160\, Australia
END:VEVENT
END:VCALENDAR
