BEGIN:VCALENDAR
VERSION:2.0
PRODID:-//Squarespace Inc/Squarespace 6//v6//EN
BEGIN:VEVENT
UID:58ad7675893fc05fd0e984dd@squarespace.com
DTSTAMP:20170222T113806Z
DTSTART:20170318T230000Z
DTEND:20170319T050000Z
SUMMARY:Melbourne Art Centre 
GEO:-37.821217;144.968461
LOCATION:Melbourne Art Centre\, 100 Saint Kilda Road\, Melbourne\, Australi
 a
END:VEVENT
END:VCALENDAR
