BEGIN:VCALENDAR
VERSION:2.0
PRODID:-//Squarespace Inc/Squarespace 6//v6//EN
BEGIN:VEVENT
UID:58ad782ccd0f68a21b6b4a60@squarespace.com
DTSTAMP:20170222T114113Z
DTSTART:20170326T000000Z
DTEND:20170326T050000Z
SUMMARY:Pets in the Park
GEO:-37.871435;145.049039
LOCATION:Central Park\, Burke Road\, Malvern East\, VIC\, 3145\, Australia
END:VEVENT
END:VCALENDAR
