BEGIN:VCALENDAR
VERSION:2.0
PRODID:-//Squarespace Inc/Squarespace 6//v6//EN
BEGIN:VEVENT
UID:58ad7430be65949f34123356@squarespace.com
DTSTAMP:20170222T112350Z
DTSTART:20170303T223000Z
DTEND:20170304T040000Z
SUMMARY:Seddon Makers Market
GEO:-37.808932;144.890002
LOCATION:Seddon Uniting Church\, Gamon Street\, Seddon\, VIC\, 3011\, Austr
 alia
END:VEVENT
END:VCALENDAR
