BEGIN:VCALENDAR
VERSION:2.0
PRODID:-//Squarespace Inc/Squarespace 6//v6//EN
BEGIN:VEVENT
UID:58ad78ed4402435c094cc148@squarespace.com
DTSTAMP:20170222T114309Z
DTSTART:20170331T210000Z
DTEND:20170401T030000Z
SUMMARY:Heide Makers Market
GEO:-37.759014;145.083196
LOCATION:Heide Art Museum\, 7 Templestowe Road\, Bulleen\, VIC\, 3105\, Aus
 tralia
END:VEVENT
END:VCALENDAR
