BEGIN:VCALENDAR
VERSION:2.0
PRODID:-//Squarespace Inc/Squarespace 6//v6//EN
BEGIN:VEVENT
UID:58ad7a5b4402435c094ccb3d@squarespace.com
DTSTAMP:20170222T115223Z
DTSTART:20170414T230000Z
DTEND:20170415T040000Z
SUMMARY:Point Nepean Craft Market
GEO:-38.311516;144.681832
LOCATION:Point Nepean National Park\, Point Nepean Road\, Fort Nepean\, Aus
 tralia
END:VEVENT
END:VCALENDAR
