BEGIN:VCALENDAR
VERSION:2.0
PRODID:-//Squarespace Inc/Squarespace 6//v6//EN
BEGIN:VEVENT
UID:58ad7b8786e6c09f84118c59@squarespace.com
DTSTAMP:20170222T115406Z
DTSTART:20170416T000000Z
DTEND:20170416T040000Z
SUMMARY:Melbourne Art Centre arket
GEO:-37.820799;144.968219
LOCATION:Melbourne Art Centre\, 100 St Kilda Road\, Melbourne
END:VEVENT
END:VCALENDAR
