BEGIN:VCALENDAR
VERSION:2.0
PRODID:-//Squarespace Inc/Squarespace 6//v6//EN
BEGIN:VEVENT
UID:58ad795adb29d628c83edba9@squarespace.com
DTSTAMP:20170222T114454Z
DTSTART:20170402T000000Z
DTEND:20170402T060000Z
SUMMARY:Melbourne Art Centre Market
GEO:-37.820799;144.968219
LOCATION:Melbourne Art Centre\, 100 St Kilda Road\, Melbourne
END:VEVENT
END:VCALENDAR
