BEGIN:VCALENDAR
VERSION:2.0
PRODID:-//Squarespace Inc/Squarespace 6//v6//EN
BEGIN:VEVENT
UID:58d0ac928419c21896b8b330@squarespace.com
DTSTAMP:20170321T043254Z
DTSTART:20170422T010000Z
DTEND:20170422T040000Z
SUMMARY:William Sanoma Pop Up
GEO:-37.886482;145.082695
LOCATION:William Sanoma\, 1341 Dandenong Road\, Malvern East\, VIC\, 3145\, 
 Australia
END:VEVENT
END:VCALENDAR
