BEGIN:VCALENDAR
VERSION:2.0
PRODID:-//Squarespace Inc/Squarespace 6//v6//EN
BEGIN:VEVENT
UID:58ad7bfb86e6c09f84118fc6@squarespace.com
DTSTAMP:20170222T115638Z
DTSTART:20170422T230000Z
DTEND:20170423T040000Z
SUMMARY:Lardner Park Craft Market
GEO:-38.203432;145.869499
LOCATION:Lardner Park\, Burnt Store Road\, Lardner\, VIC\, 3821\, Australia
END:VEVENT
END:VCALENDAR
