BEGIN:VCALENDAR
VERSION:2.0
PRODID:-//Squarespace Inc/Squarespace 6//v6//EN
BEGIN:VEVENT
UID:58d0aa05b3db2bea26292545@squarespace.com
DTSTAMP:20170321T042150Z
DTSTART:20170429T000000Z
DTEND:20170429T050000Z
SUMMARY:Whats In the Box 
GEO:-37.819236;145.126565
LOCATION:Box Hill Town Hall\, 1022 Whitehorse Road\, Box Hill\, VIC\, 3128\
 , Australia
END:VEVENT
END:VCALENDAR
