BEGIN:VCALENDAR
VERSION:2.0
PRODID:-//Squarespace Inc/Squarespace 6//v6//EN
BEGIN:VEVENT
UID:58ad79c8db29d628c83edec0@squarespace.com
DTSTAMP:20170222T114712Z
DTSTART:20170408T230000Z
DTEND:20170409T040000Z
SUMMARY:Belgrave Big Dreams
GEO:-37.908638;145.352933
LOCATION:ST THOMAS MORE PRIMARY SCHOOL\, Reynolds Lane\, Belgrave\, VIC\, 3
 160\, Australia
END:VEVENT
END:VCALENDAR
