BEGIN:VCALENDAR
VERSION:2.0
PRODID:-//Squarespace Inc/Squarespace 6//v6//EN
BEGIN:VEVENT
UID:58d0abdeff7c505812a9d6da@squarespace.com
DTSTAMP:20170321T043043Z
DTSTART:20170512T230000Z
DTEND:20170513T040000Z
SUMMARY:Heide Makers Market
GEO:-37.759014;145.083196
LOCATION:Heide Museum of Modern Art\, 7 Templestowe Road\, Bulleen\, VIC\, 
 3105\, Australia
END:VEVENT
END:VCALENDAR
