BEGIN:VCALENDAR
VERSION:2.0
PRODID:-//Squarespace Inc/Squarespace 6//v6//EN
BEGIN:VEVENT
UID:58d0ad108419c21896b8b849@squarespace.com
DTSTAMP:20170321T043650Z
DTSTART:20170513T230000Z
DTEND:20170514T040000Z
SUMMARY:Belgrave Big Dream
GEO:-37.908638;145.352933
LOCATION:St Thomas More Primary School\, Reynolds Lane\, Belgrave\, VIC\, 3
 160\, Australia
END:VEVENT
END:VCALENDAR
