BEGIN:VCALENDAR
VERSION:2.0
PRODID:-//Squarespace Inc/Squarespace 6//v6//EN
BEGIN:VEVENT
UID:59192b6b15cf7d45e9754d35@squarespace.com
DTSTAMP:20170515T041750Z
DTSTART:20170602T233000Z
DTEND:20170603T050000Z
SUMMARY:Seddon Makers Market
GEO:-37.808932;144.890002
LOCATION:Seddon Uniting Church\, Gamon Street\, Seddon\, VIC\, 3011\, Austr
 alia
END:VEVENT
END:VCALENDAR
