BEGIN:VCALENDAR
VERSION:2.0
PRODID:-//Squarespace Inc/Squarespace 6//v6//EN
BEGIN:VEVENT
UID:59192aca6b8f5b6a4a20dd4b@squarespace.com
DTSTAMP:20170515T041343Z
DTSTART:20170515T000000Z
DTEND:20170515T050000Z
SUMMARY:Sorrento Makers Market
GEO:-38.342743;144.733352
LOCATION:Sorrento Makers Market\, Ocean Beach Road\, Sorrento\, VIC\, 3943\
 , Australia
END:VEVENT
END:VCALENDAR
