BEGIN:VCALENDAR
VERSION:2.0
PRODID:-//Squarespace Inc/Squarespace 6//v6//EN
BEGIN:VEVENT
UID:59192829f5e2317b6a3c0b41@squarespace.com
DTSTAMP:20170515T040358Z
DTSTART:20170521T000000Z
DTEND:20170521T060000Z
SUMMARY:Melbourne Art Centre Market
GEO:-37.818766;144.96797
LOCATION:Melbourne Art Centre\, 100 Saint Kilda Road\, Melbourne VIc 3000\, 
 Australia
END:VEVENT
END:VCALENDAR
