BEGIN:VCALENDAR
VERSION:2.0
PRODID:-//Squarespace Inc/Squarespace 6//v6//EN
BEGIN:VEVENT
UID:591928bac534a5e1ade22805@squarespace.com
DTSTAMP:20170515T040523Z
DTSTART:20170520T220000Z
DTEND:20170521T030000Z
SUMMARY:Seaford Farmers market
GEO:-38.103461;145.127204
LOCATION:Seaford Farmers Market\, Station Street\, Seaford\, VIC\, 3198\, A
 ustralia
END:VEVENT
END:VCALENDAR
