BEGIN:VCALENDAR
VERSION:2.0
PRODID:-//Squarespace Inc/Squarespace 6//v6//EN
BEGIN:VEVENT
UID:591929d5d1758edfb7dbdc51@squarespace.com
DTSTAMP:20170515T041246Z
DTSTART:20170527T000000Z
DTEND:20170527T050000Z
SUMMARY:Craft Markets Australia Sorrento Makers Market
GEO:-38.342743;144.733352
LOCATION:Sorrento Makers Market\, Ocean Beach Road\, Sorrento\, VIC\, 3943\
 , Australia
END:VEVENT
END:VCALENDAR
