BEGIN:VCALENDAR
VERSION:2.0
PRODID:-//Squarespace Inc/Squarespace 6//v6//EN
BEGIN:VEVENT
UID:59192916ff7c50802f0470f0@squarespace.com
DTSTAMP:20170515T040842Z
DTSTART:20170527T020000Z
DTEND:20170527T050000Z
SUMMARY:Dogs Day Out
GEO:-37.906371;145.149138
LOCATION:Inchmeal Cafe\, 39 Westerfield Drive\, Notting Hill\, VIC\, 3168\, 
 Australia
END:VEVENT
END:VCALENDAR
