BEGIN:VCALENDAR
VERSION:2.0
PRODID:-//Squarespace Inc/Squarespace 6//v6//EN
BEGIN:VEVENT
UID:58d0aa9346c3c4511869b338@squarespace.com
DTSTAMP:20170321T042459Z
DTSTART:20170506T000000Z
DTEND:20170506T040000Z
SUMMARY:Makers Market Heathmont
GEO:-37.833141;145.235463
LOCATION:Heathmont Presbyterian Church\, 6 Waterloo Street\, Heathmont\, VI
 C\, 3135\, Australia
END:VEVENT
END:VCALENDAR
