BEGIN:VCALENDAR
VERSION:2.0
PRODID:-//Squarespace Inc/Squarespace 6//v6//EN
BEGIN:VEVENT
UID:58d0ab2c46c3c4511869b9a3@squarespace.com
DTSTAMP:20170321T042740Z
DTSTART:20170507T000000Z
DTEND:20170507T060000Z
SUMMARY:Melbourne Art Centre Market
GEO:-37.859271;144.984296
LOCATION:Melbourne Art Centre\, 100 Saint Kilda Road\, Saint Kilda\, VIC\, 
 3182\, Australia
END:VEVENT
END:VCALENDAR
