BEGIN:VCALENDAR
VERSION:2.0
PRODID:-//Squarespace Inc/Squarespace 6//v6//EN
BEGIN:VEVENT
UID:59192c8d6b8f5b6a4a20ef14@squarespace.com
DTSTAMP:20170515T042331Z
DTSTART:20170610T230000Z
DTEND:20170611T040000Z
SUMMARY:Belgrave Big Dreams
GEO:-37.908638;145.352933
LOCATION:St Thomas Moore Primary School\, Reynolds Lane\, Belgrave\, VIC\, 
 3160\, Australia
END:VEVENT
END:VCALENDAR
