BEGIN:VCALENDAR
VERSION:2.0
PRODID:-//Squarespace Inc/Squarespace 6//v6//EN
BEGIN:VEVENT
UID:59192db56a496322aabb59d1@squarespace.com
DTSTAMP:20170515T042757Z
DTSTART:20170618T000000Z
DTEND:20170618T060000Z
SUMMARY:Melbourne Art Centre Market 
GEO:-37.818766;144.96797
LOCATION:Melbourne Art Centre\, 100 Saint Kilda Road\, Melbourne\, VIC\, 30
 00\, Australia
END:VEVENT
END:VCALENDAR
