BEGIN:VCALENDAR
VERSION:2.0
PRODID:-//Squarespace Inc/Squarespace 6//v6//EN
BEGIN:VEVENT
UID:59192d5ed2b857e0cc1ad2c3@squarespace.com
DTSTAMP:20170515T042512Z
DTSTART:20170617T220000Z
DTEND:20170618T030000Z
SUMMARY:Seaford Farmers Market
GEO:-38.103461;145.127204
LOCATION:Seaford Farmers Market\, Station Street\, Seaford\, VIC\, 3198\, A
 ustralia
END:VEVENT
END:VCALENDAR
