BEGIN:VCALENDAR
VERSION:2.0
PRODID:-//Squarespace Inc/Squarespace 6//v6//EN
BEGIN:VEVENT
UID:59192bf903596e0a6e60258e@squarespace.com
DTSTAMP:20170515T042011Z
DTSTART:20170604T000000Z
DTEND:20170604T060000Z
SUMMARY:Melbourne Art Centre market
GEO:-37.859271;144.984296
LOCATION:Melbourne Art Centre\, 100 Saint Kilda Road\, Saint Kilda\, VIC\, 
 3182\, Australia
END:VEVENT
END:VCALENDAR
