BEGIN:VCALENDAR
VERSION:2.0
PRODID:-//Squarespace Inc/Squarespace 6//v6//EN
BEGIN:VEVENT
UID:59ca4637268b96752f061416@squarespace.com
DTSTAMP:20170926T122342Z
DTSTART:20170929T000000Z
DTEND:20170929T050000Z
SUMMARY:Notting Hill Market
GEO:-37.906371;145.149138
LOCATION:Inchmeal Cafe\, 39 Westerfield Drive\, Notting Hill\, VIC\, 3168\, 
 Australia
END:VEVENT
END:VCALENDAR
