BEGIN:VCALENDAR
VERSION:2.0
PRODID:-//Squarespace Inc/Squarespace 6//v6//EN
BEGIN:VEVENT
UID:59ace5edff7c503cffe89e45@squarespace.com
DTSTAMP:20170904T060117Z
DTSTART:20170909T000000Z
DTEND:20170909T050000Z
SUMMARY:Heide Makers Market
GEO:-37.759014;145.083196
LOCATION:Heide Museum of Modern Art\, 7 Templestowe Road\, Bulleen\, VIC\, 
 3105\, Australia
END:VEVENT
END:VCALENDAR
